BEGIN:VCALENDAR
VERSION:2.0
PRODID:-//jEvents 2.0 for Joomla//EN
CALSCALE:GREGORIAN
METHOD:PUBLISH
BEGIN:VTIMEZONE
TZID:Europe/Berlin
BEGIN:STANDARD
DTSTART:20251211T000000
RDATE:20260329T030000
TZOFFSETFROM:+0200
TZOFFSETTO:+0100
TZNAME:Europe/Berlin CET
END:STANDARD
BEGIN:STANDARD
DTSTART:20261025T020000
RDATE:20270328T030000
TZOFFSETFROM:+0200
TZOFFSETTO:+0100
TZNAME:Europe/Berlin CET
END:STANDARD
BEGIN:STANDARD
DTSTART:20271031T020000
RDATE:20280326T030000
TZOFFSETFROM:+0200
TZOFFSETTO:+0100
TZNAME:Europe/Berlin CET
END:STANDARD
BEGIN:DAYLIGHT
DTSTART:20260329T030000
RDATE:20261025T020000
TZOFFSETFROM:+0100
TZOFFSETTO:+0200
TZNAME:Europe/Berlin CEST
END:DAYLIGHT
BEGIN:DAYLIGHT
DTSTART:20270328T030000
RDATE:20271031T020000
TZOFFSETFROM:+0100
TZOFFSETTO:+0200
TZNAME:Europe/Berlin CEST
END:DAYLIGHT
END:VTIMEZONE
BEGIN:VEVENT
UID:6adf49038da515e99152786ad7067000
CATEGORIES:Allgemein
CREATED:20260208T205936
SUMMARY:Schnitzeljagd und Glühwein + Grinch
LOCATION:TCI Anlage
URL;VALUE=URI:https://tc-ismaning.de/kontakt/kalender-termine/eventdetail/10618/-/schnitz
 eljagd-und-gluehwein-grinch?tmpl=component
DESCRIPTION:<p>Winterliche Schnitzeljagd für Kinder und Jugendliche mit gemütlichem Aus
 klang für alle.</p>
CONTACT:Diese E-Mail-Adresse ist vor Spambots geschützt! Zur Anzeige muss JavaScript eingeschaltet sein.
DTSTAMP:20260423T215202
DTSTART;TZID=Europe/Berlin;VALUE=DATE:20261212
DTEND;TZID=Europe/Berlin;VALUE=DATE:20261213
SEQUENCE:0
TRANSP:OPAQUE
END:VEVENT
END:VCALENDAR