BEGIN:VCALENDAR
VERSION:2.0
PRODID:-//jEvents 2.0 for Joomla//EN
CALSCALE:GREGORIAN
METHOD:PUBLISH
BEGIN:VTIMEZONE
TZID:Europe/Berlin
BEGIN:STANDARD
DTSTART:20251113T000000
RDATE:20260329T030000
TZOFFSETFROM:+0200
TZOFFSETTO:+0100
TZNAME:Europe/Berlin CET
END:STANDARD
BEGIN:STANDARD
DTSTART:20261025T020000
RDATE:20270328T030000
TZOFFSETFROM:+0200
TZOFFSETTO:+0100
TZNAME:Europe/Berlin CET
END:STANDARD
BEGIN:STANDARD
DTSTART:20271031T020000
RDATE:20280326T030000
TZOFFSETFROM:+0200
TZOFFSETTO:+0100
TZNAME:Europe/Berlin CET
END:STANDARD
BEGIN:DAYLIGHT
DTSTART:20260329T030000
RDATE:20261025T020000
TZOFFSETFROM:+0100
TZOFFSETTO:+0200
TZNAME:Europe/Berlin CEST
END:DAYLIGHT
BEGIN:DAYLIGHT
DTSTART:20270328T030000
RDATE:20271031T020000
TZOFFSETFROM:+0100
TZOFFSETTO:+0200
TZNAME:Europe/Berlin CEST
END:DAYLIGHT
END:VTIMEZONE
BEGIN:VEVENT
UID:11cc96eae998395b6c76ffa3a9d85e97
CATEGORIES:Mitglieder
CREATED:20260208T202353
SUMMARY:Schlittschuhlaufen
URL;VALUE=URI:https://tc-ismaning.de/kontakt/kalender-termine/eventdetail/10614/-/schlitt
 schuhlaufen?tmpl=component
DESCRIPTION:Ausflug zum Schlittschuhlaufen für Kinder und Jugendliche – Bewegung und Sp
 aß auf dem Eis.\n
X-ALT-DESC;FMTTYPE=text/html:<p data-start="3369" data-end="3454">Ausflug zum Schlittschuhlaufen für Kin
 der und Jugendliche – Bewegung und Spaß auf dem Eis.</p>
CONTACT:Mandy, Peter, Alex
DTSTAMP:20260423T173335
DTSTART;TZID=Europe/Berlin;VALUE=DATE:20261114
DTEND;TZID=Europe/Berlin;VALUE=DATE:20261115
SEQUENCE:0
TRANSP:OPAQUE
END:VEVENT
END:VCALENDAR