BEGIN:VCALENDAR
VERSION:2.0
PRODID:-//jEvents 2.0 for Joomla//EN
CALSCALE:GREGORIAN
METHOD:PUBLISH
BEGIN:VTIMEZONE
TZID:Europe/Berlin
BEGIN:STANDARD
DTSTART:20251030T000000
RDATE:20260329T030000
TZOFFSETFROM:+0200
TZOFFSETTO:+0100
TZNAME:Europe/Berlin CET
END:STANDARD
BEGIN:STANDARD
DTSTART:20261025T020000
RDATE:20270328T030000
TZOFFSETFROM:+0200
TZOFFSETTO:+0100
TZNAME:Europe/Berlin CET
END:STANDARD
BEGIN:STANDARD
DTSTART:20271031T020000
RDATE:20280326T030000
TZOFFSETFROM:+0200
TZOFFSETTO:+0100
TZNAME:Europe/Berlin CET
END:STANDARD
BEGIN:DAYLIGHT
DTSTART:20260329T030000
RDATE:20261025T020000
TZOFFSETFROM:+0100
TZOFFSETTO:+0200
TZNAME:Europe/Berlin CEST
END:DAYLIGHT
BEGIN:DAYLIGHT
DTSTART:20270328T030000
RDATE:20271031T020000
TZOFFSETFROM:+0100
TZOFFSETTO:+0200
TZNAME:Europe/Berlin CEST
END:DAYLIGHT
END:VTIMEZONE
BEGIN:VEVENT
UID:845ea50f0475fd126603e3f6a1c33100
CATEGORIES:Mitglieder
CREATED:20260208T202258
SUMMARY:Einwinterung der Frei-Plätze
URL;VALUE=URI:https://tc-ismaning.de/kontakt/kalender-termine/eventdetail/10613/-/einwint
 erung-der-frei-plaetze?tmpl=component
DESCRIPTION:<p data-start="3369" data-end="3454">Gemeinsamer Saisonabschluss in dem wir
  die Plätze winterfest machen und gemütlichem Beisammensein mit Glühwein un
 d Punsch</p>
CONTACT:Mandy, Peter, Alex
DTSTAMP:20260423T173957
DTSTART;TZID=Europe/Berlin;VALUE=DATE:20261031
DTEND;TZID=Europe/Berlin;VALUE=DATE:20261101
SEQUENCE:0
TRANSP:OPAQUE
END:VEVENT
END:VCALENDAR