BEGIN:VCALENDAR
VERSION:2.0
PRODID:-//jEvents 2.0 for Joomla//EN
CALSCALE:GREGORIAN
METHOD:PUBLISH
BEGIN:VTIMEZONE
TZID:Europe/Berlin
BEGIN:STANDARD
DTSTART:20251026T020000
RDATE:20260329T030000
TZOFFSETFROM:+0200
TZOFFSETTO:+0100
TZNAME:Europe/Berlin CET
END:STANDARD
BEGIN:STANDARD
DTSTART:20261025T020000
RDATE:20270328T030000
TZOFFSETFROM:+0200
TZOFFSETTO:+0100
TZNAME:Europe/Berlin CET
END:STANDARD
BEGIN:STANDARD
DTSTART:20271031T020000
RDATE:20280326T030000
TZOFFSETFROM:+0200
TZOFFSETTO:+0100
TZNAME:Europe/Berlin CET
END:STANDARD
BEGIN:DAYLIGHT
DTSTART:20250611T000000
RDATE:20251026T020000
TZOFFSETFROM:+0100
TZOFFSETTO:+0200
TZNAME:Europe/Berlin CEST
END:DAYLIGHT
BEGIN:DAYLIGHT
DTSTART:20260329T030000
RDATE:20261025T020000
TZOFFSETFROM:+0100
TZOFFSETTO:+0200
TZNAME:Europe/Berlin CEST
END:DAYLIGHT
BEGIN:DAYLIGHT
DTSTART:20270328T030000
RDATE:20271031T020000
TZOFFSETFROM:+0100
TZOFFSETTO:+0200
TZNAME:Europe/Berlin CEST
END:DAYLIGHT
END:VTIMEZONE
BEGIN:VEVENT
UID:acb32966af4a538fe98bdebd8d220b8c
CATEGORIES:Mitglieder
CREATED:20260208T201251
SUMMARY:Ausflug Wildpark Poing
LOCATION:Wildpark Poing
URL;VALUE=URI:https://tc-ismaning.de/kontakt/kalender-termine/eventdetail/10606/-/ausflug
 -wildpark-poing?tmpl=component
DESCRIPTION:<p data-start="2375" data-end="2463">Familienausflug in den Wildpark Poing 
 mit gemeinsamer Zeit, Natur und Tierbeobachtungen.</p>
CONTACT:Diese E-Mail-Adresse ist vor Spambots geschützt! Zur Anzeige muss JavaScript eingeschaltet sein.
DTSTAMP:20260421T102110
DTSTART;TZID=Europe/Berlin;VALUE=DATE:20260612
DTEND;TZID=Europe/Berlin;VALUE=DATE:20260613
SEQUENCE:0
TRANSP:OPAQUE
END:VEVENT
END:VCALENDAR